BEGIN:VCALENDAR
VERSION:2.0
PRODID:-//DFB - Ortsverein: Isselburg-Bocholt - ECPv6.15.17.1//NONSGML v1.0//EN
CALSCALE:GREGORIAN
METHOD:PUBLISH
X-WR-CALNAME:DFB - Ortsverein: Isselburg-Bocholt
X-ORIGINAL-URL:https://dfb-ib.de
X-WR-CALDESC:Veranstaltungen für DFB - Ortsverein: Isselburg-Bocholt
REFRESH-INTERVAL;VALUE=DURATION:PT1H
X-Robots-Tag:noindex
X-PUBLISHED-TTL:PT1H
BEGIN:VTIMEZONE
TZID:Europe/Berlin
BEGIN:DAYLIGHT
TZOFFSETFROM:+0100
TZOFFSETTO:+0200
TZNAME:CEST
DTSTART:20250330T010000
END:DAYLIGHT
BEGIN:STANDARD
TZOFFSETFROM:+0200
TZOFFSETTO:+0100
TZNAME:CET
DTSTART:20251026T010000
END:STANDARD
BEGIN:DAYLIGHT
TZOFFSETFROM:+0100
TZOFFSETTO:+0200
TZNAME:CEST
DTSTART:20260329T010000
END:DAYLIGHT
BEGIN:STANDARD
TZOFFSETFROM:+0200
TZOFFSETTO:+0100
TZNAME:CET
DTSTART:20261025T010000
END:STANDARD
BEGIN:DAYLIGHT
TZOFFSETFROM:+0100
TZOFFSETTO:+0200
TZNAME:CEST
DTSTART:20270328T010000
END:DAYLIGHT
BEGIN:STANDARD
TZOFFSETFROM:+0200
TZOFFSETTO:+0100
TZNAME:CET
DTSTART:20271031T010000
END:STANDARD
BEGIN:DAYLIGHT
TZOFFSETFROM:+0100
TZOFFSETTO:+0200
TZNAME:CEST
DTSTART:20280326T010000
END:DAYLIGHT
BEGIN:STANDARD
TZOFFSETFROM:+0200
TZOFFSETTO:+0100
TZNAME:CET
DTSTART:20281029T010000
END:STANDARD
END:VTIMEZONE
BEGIN:VEVENT
DTSTART;TZID=Europe/Berlin:20260508T190000
DTEND;TZID=Europe/Berlin:20260508T210000
DTSTAMP:20260422T005625
CREATED:20260219T203858Z
LAST-MODIFIED:20260219T203858Z
UID:2757-1778266800-1778274000@dfb-ib.de
SUMMARY:Fachvortrag Fa. Elkem
DESCRIPTION:
URL:https://dfb-ib.de/event/fachvortrag-fa-elkem/
LOCATION:Zur Glocke\, Alfred-Flender-Straße 128\, Bocholt\, NRW\, 46395\, Deutschland
END:VEVENT
BEGIN:VEVENT
DTSTART;TZID=Europe/Berlin:20260612T190000
DTEND;TZID=Europe/Berlin:20260612T210000
DTSTAMP:20260422T005625
CREATED:20260219T203941Z
LAST-MODIFIED:20260219T203941Z
UID:2759-1781290800-1781298000@dfb-ib.de
SUMMARY:Kegeln
DESCRIPTION:
URL:https://dfb-ib.de/event/kegeln-3/
LOCATION:Kornhaus\, Werther Straße 242\, Bocholt\, NRW\, 46395\, Deutschland
END:VEVENT
BEGIN:VEVENT
DTSTART;TZID=Europe/Berlin:20260918T170000
DTEND;TZID=Europe/Berlin:20260918T190000
DTSTAMP:20260422T005625
CREATED:20260219T204015Z
LAST-MODIFIED:20260219T204015Z
UID:2761-1789750800-1789758000@dfb-ib.de
SUMMARY:Besichtigung Zorc / Siempelkamp
DESCRIPTION:
URL:https://dfb-ib.de/event/besichtigung-zorc-siempelkamp/
LOCATION:Siempelkamp Gießerei\, Siempelkampstrasse 45\, Krefeld\, NRW\, 47803\, Deutschland
END:VEVENT
BEGIN:VEVENT
DTSTART;TZID=Europe/Berlin:20261009T080000
DTEND;TZID=Europe/Berlin:20261009T170000
DTSTAMP:20260422T005625
CREATED:20260219T204122Z
LAST-MODIFIED:20260219T204122Z
UID:2763-1791532800-1791565200@dfb-ib.de
SUMMARY:Besichtigung Tekloth
DESCRIPTION:
URL:https://dfb-ib.de/event/besichtigung-tekloth/
LOCATION:tekloth\, Schlavenhorst 25\, Bocholt\, 46395\, Deutschland
END:VEVENT
BEGIN:VEVENT
DTSTART;TZID=Europe/Berlin:20261113T190000
DTEND;TZID=Europe/Berlin:20261113T210000
DTSTAMP:20260422T005625
CREATED:20260219T204202Z
LAST-MODIFIED:20260219T204202Z
UID:2766-1794596400-1794603600@dfb-ib.de
SUMMARY:Fachvortrag Herp
DESCRIPTION:
URL:https://dfb-ib.de/event/fachvortrag-herp-2/
LOCATION:Zur Glocke\, Alfred-Flender-Straße 128\, Bocholt\, NRW\, 46395\, Deutschland
END:VEVENT
BEGIN:VEVENT
DTSTART;TZID=Europe/Berlin:20261212T193000
DTEND;TZID=Europe/Berlin:20261212T220000
DTSTAMP:20260422T005625
CREATED:20260219T204240Z
LAST-MODIFIED:20260219T204240Z
UID:2768-1797103800-1797112800@dfb-ib.de
SUMMARY:Barbarafeier Zur Glocke mit Ehrungen
DESCRIPTION:
URL:https://dfb-ib.de/event/barbarafeier-zur-glocke-mit-ehrungen/
LOCATION:Zur Glocke\, Alfred-Flender-Straße 128\, Bocholt\, NRW\, 46395\, Deutschland
END:VEVENT
BEGIN:VEVENT
DTSTART;TZID=Europe/Berlin:20270108T190000
DTEND;TZID=Europe/Berlin:20270108T210000
DTSTAMP:20260422T005625
CREATED:20260219T204309Z
LAST-MODIFIED:20260219T204309Z
UID:2770-1799434800-1799442000@dfb-ib.de
SUMMARY:Jahreshauptversammlung
DESCRIPTION:
URL:https://dfb-ib.de/event/jahreshauptversammlung-7/
LOCATION:Zur Glocke\, Alfred-Flender-Straße 128\, Bocholt\, NRW\, 46395\, Deutschland
END:VEVENT
END:VCALENDAR